BEGIN:VCALENDAR
BEGIN:VEVENT
CLASS:PUBLIC
CREATED:20260421T191400
DESCRIPTION:Les générations en exploration avec les Matinées Mères-Enfants de Sainte-Brigitte-de-Laval est de retour!

Description:
Sorties multigénérationnelles extérieures qui vous permettront de découvrir ou redécouvrir différents parcs et sites naturels à chaque semaine. Une occasion pour randonnée avec bébé et d\'apprendre à transformer les petites choses en moments grandioses. Idéal pour les 0-6 ans. Nous offrons le prêt gratuit de porte-bébé préformés Chimparoo au besoin sous réservation. Balade d\'exploration de courtes distances pour petits, parents et grands-parents. Découverte, plaisir et liberté.

Vendredi 10 septembre: Randonnée au sommet de la Montagne à Deux-Têtes

Stationnement: au stationnement de la Montagne à Deux-Têtes situé au bout complètement de la rue Auclair 
Stationnement à droite du rond point, après le 354 rue Auclair, Sainte-Brigitte-de-Laval, G0A 3K0 (ne pas suivre le stationnement de la Montagne à Deux Têtes en bas de la montagne, le sentier est fermé, on se rejoint en haut!)

Apportez:
- Eau
- Vêtements de rechange pour les enfants et adaptés à la température
- Collation

Nous offrons une boisson chaude!

L\'activité a lieu beau temps, mauvais mais prenez note qu\'en cas de pluie extrême, un message courriel vous sera envoyé à 8h le matin pour vous préciser si l\'activité est reporté

Pour réservation ou pour plus d\'information contacter Maude, responsable des Matinées Mères-Enfants de Sainte-Brigitte-de-Laval par courriel: matineesmeresenfants@hotmail.com
DTEND:20210910T120000
DTSTAMP:20260421T191400
DTSTART:20210910T093000
LAST-MODIFIED:20091109T101015Z
LOCATION:Stationnement en haut de la Montagne à Deux-Têtes, Au bout de la rue Auclair, Sainte-Brigitte-de-Laval, Québec, G0A 3K0
SUMMARY;LANGUAGE=en-us:Club d'exploration à Sainte-Brigitte-de-Laval, Balade 1 Montagne à Deux-Têtes
BEGIN:VALARM
TRIGGER:-PT1440M
ACTION:DISPLAY
DESCRIPTION:Reminder
END:VALARM
END:VEVENT
END:VCALENDAR
