BEGIN:VCALENDAR
BEGIN:VEVENT
CLASS:PUBLIC
CREATED:20260421T191354
DESCRIPTION:Partez en vélo ou en rando pendant que votre enfant explore avec nous, à son rythme la nature.
Nous sommes bien fiers d\'annoncer notre première halte-nature pour permettre à tous les membres de la famille d\'apprécier au maximum les richesses de la Vallée Bras-du-Nord!

Avec une éducatrice à la petite enfance qualifiée et passionnée de nature, faites vivre à votre enfant une initiation à la pédagogie émergente et la pédagogie nature en lui offrant un terrain d\'exploration et des camarades curieux pour lui offrir un moment de grande qualité! Mélissa partira avec 8 amis à la découverte de leurs intérêts en nature avec tout le matériel nécessaire pour assurer une expérience mémorable!

Description:
- 4 options de dates
- De 9h30 à 12h
- 6 places seulement par jour
- Encadrement de grande qualité
- Approche d\'éducation par la nature
- Collation incluse (sans noix) Informez-nous pour toutes allergies ou autres problèmes de santé.

Le plus important, bien les préparer avec de bons vêtements! Apportez:
- Des vêtements adaptés
- Un manteau et des pantalons imperméables
- Bottes de pluie

Un petit sac à dos avec:
- Des vêtements de rechange
- Une bouteille d\'eau

Lieu de rencontre, de l\'autre côté de la passerelle suspendue à l\'accueil Shannahan, Vallée Bras-du-Nord. 
Inscription obligatoire, à la carte sur le lien suivant ou notre site web.

Un courriel détaillé vous sera envoyé deux jours avant l\'évènement.
Pour toutes questions écrivez nous au info@timoussedansbrousse.com
DTEND:20210828T120000
DTSTAMP:20260421T191354
DTSTART:20210828T093000
LAST-MODIFIED:20091109T101015Z
LOCATION:Vallée Bras-du-Nord, Acceuil Shannahan, 2180 Rang Saguenay, Saint-Raymond, Québec, G3L 3G3
SUMMARY;LANGUAGE=en-us:Halte-garderie nature à la Vallée Bras-du-Nord, St-Raymond, Portneuf
BEGIN:VALARM
TRIGGER:-PT1440M
ACTION:DISPLAY
DESCRIPTION:Reminder
END:VALARM
END:VEVENT
END:VCALENDAR
