BEGIN:VCALENDAR
BEGIN:VEVENT
CLASS:PUBLIC
CREATED:20260422T040515
DESCRIPTION:Malgré le Blizzard qui sévit au Pôle Nord, les petits lutins des bois sont toujours en action dans leur forêt enchantée. 

Venez partager avec nous la magie des fêtes en toute simplicité.

Départ en bulle famille chaque 10 minutes. Petits défis à réaliser lorsque vous apercevez un lutin.

Réservation obligatoire. Choisissez votre heure de départ et si c\'est complet, sélectionnez le départ suivant. Communiquez avec nous si vous éprouvez de la difficulté avec votre inscription.

Gratuit grâce à la précieuse collaboration des Matinées Mères-Enfants de Sainte-Brigitte-de-Laval et du Secrétariat à la Jeunesse.


Venez nous voir avec votre plus beau sourire pour attirer les lutins et habillez-vous chaudement pour la balade en forêt!
Pour plus d\'informations: info@timoussedansbrousse.com
Maude des Matinées: 418-907-9800

DTEND:20201223T120000
DTSTAMP:20260422T040515
DTSTART:20201223T100000
LAST-MODIFIED:20091109T101015Z
LOCATION:Parc des Saphirs, 175 Rue Kildare,  Sainte-Brigitte-de-Laval, Québec, G0A 3K0
SUMMARY;LANGUAGE=en-us:Sainte-Brigitte-de-Laval, Québec - Chasse aux lutins des bois
BEGIN:VALARM
TRIGGER:-PT1440M
ACTION:DISPLAY
DESCRIPTION:Reminder
END:VALARM
END:VEVENT
END:VCALENDAR
