BEGIN:VCALENDAR
BEGIN:VEVENT
CLASS:PUBLIC
CREATED:20260422T040240
DESCRIPTION:Malgré le Blizzard qui sévit au Pôle Nord, les petits lutins des bois sont toujours en action dans leur forêt enchantée. 

Venez partager avec nous la magie des fêtes en toute simplicité.

Départ en bulle famille chaque 10 minutes. Petits défis à réaliser lorsque vous apercevez un lutin.

Réservation obligatoire. Choisissez votre heure de départ et si c\'est complet, sélectionnez le départ suivant. Communiquez avec nous si vous éprouvez de la difficulté avec votre inscription.

15$ par famille, un adulte et ses enfants. 5$ par adulte supplémentaire.


Venez nous voir avec votre plus beau sourire pour attirer les lutins et habillez-vous chaudement pour la balade en forêt!
Pour plus d\'informations: info@timoussedansbrousse.com
Andréa: 450-822-7486
DTEND:20201223T110000
DTSTAMP:20260422T040240
DTSTART:20201223T090000
LAST-MODIFIED:20091109T101015Z
LOCATION:Parc John Molson, Rue Viviane, Saint-Sauveur, Québec, J0R 1R4
SUMMARY;LANGUAGE=en-us:Laurentides, Saint-Sauveur - Chasse aux lutins des bois
BEGIN:VALARM
TRIGGER:-PT1440M
ACTION:DISPLAY
DESCRIPTION:Reminder
END:VALARM
END:VEVENT
END:VCALENDAR
