BEGIN:VCALENDAR
BEGIN:VEVENT
CLASS:PUBLIC
CREATED:20260422T053007
DESCRIPTION:Initiation à la draisienne et aux merveilles d\'un vignoble!
Descriptif:
Samedi le 10 octobre nous offrons deux départs par faciliter la distanciation un premier à 9h30 et un second départ à 10h30 au Vignoble Petit Chariot Rouge. Places limitées, maximum 22 personnes incluant un maximum de 11 enfants. Prenez note que nous possédons 11 vélos sans pédale adaptés aux 18-24 mois jusqu\'à 5 ans. APPORTEZ VOTRE CASQUE.

L\'activité est divisée en deux moments. D\'abord un parcours d\'initiation à la draisienne suivi d\'un cherche et trouve les 9 merveilles d\'un vignoble! Chez Ti-Mousse, nos activités sont toujours adaptés aux enfants de 0 à 5 ans, mais nous présentons la nature est un contexte d\'émerveillement pour tous!




Coût:

Notre activité est gratuite grâce à la précieuse collaboration de Kino-Québec et Plein Air Outaouais.

L\'activité a lieu beau temps, mauvais mais prenez note qu\'en cas de pluie extrême, un message courriel vous sera envoyé à 8h le samedi matin pour vous préciser si l\'activité est reportée. 

IMPORTANT: On se donne Rendez-vous au rond de feu dans le secteur des table à pique-nique situé à proximité de l\'accueil.


À noter:


 	IMPORTANT: Apportez LE CASQUE DES VÉLO de votre enfant.


 	Nous aurons accès à des toilettes situées à l\'accueil lors de nos activités. Un changement de couche est conseillé avant de partir.
 	Il est de la responsabilité du parent de surveiller son ou ses enfants en tout temps, particulièrement en raison de la présence d\'une marre à grenouilles magnifiques et d\'une clôture électrique.
 	Chemin accessible en poussette, mais portage recommandé dans toutes nos activités.
 	Apportez un rechange pour changer une couche, bouteille d\'eau, collation pour motiver vos petits, bonnes chaussures de marche imperméable ou de pluie, pour marcher confortablement dans la boue et l\'eau et pourquoi pas votre chocolat chaud!
 	Une distance de 2 mètres entre les adultes, et 1 mètre entre les enfants sera exigé en tout temps, et nous demandons à chaque parent de s\'assurer d\'être en mesure de respecter cette mesure. La bonne nouvelle c\'est que dehors, la distanciation est naturelle!
 	Un masque est exigé pour les personnes de plus de 10 ans pour l\'arrivée, le mot de bienvenue et si jamais la distanciation est difficile à respecter.




Places limitées, réservation obligatoire (inscrivez tous les membres présents, petits et grands!).
Pour plus d\'information contacter nous: info@timoussedansbrousse.com
DTEND:20201010T113000
DTSTAMP:20260422T053007
DTSTART:20201010T103000
LAST-MODIFIED:20091109T101015Z
LOCATION:Vignoble Petit Chariot Rouge, 165 Chemin de Calumet O, Shawville, Québec, J0X 2Y0
SUMMARY;LANGUAGE=en-us:Vélo d'équilibre et merveilles d'un vignoble, départ 2 - 10h30
BEGIN:VALARM
TRIGGER:-PT1440M
ACTION:DISPLAY
DESCRIPTION:Reminder
END:VALARM
END:VEVENT
END:VCALENDAR
