BEGIN:VCALENDAR
BEGIN:VEVENT
CLASS:PUBLIC
CREATED:20260422T054201
DESCRIPTION:Inscription à la carte gratuitement avec le club Les générations en exploration avec Ti-Mousse dans Brousse offert aux petits et grands, de tout âge! 

* Rendue possible grâce à la collaboration avec les Matinées Mères-enfants de SBDL et du Gouvernement du Québec par le biais du Secrétariat à la Jeunesse du Québec.



Quoi
Sorties multigénérationnelles extérieures qui vous permettront de découvrir ou redécouvrir différents parcs et sites naturels à chaque semaine. Une occasion pour randonnée avec bébé et d\'apprendre à transformer les petites choses en moments grandioses. Idéal pour les 0-5 ans. Nous offrons le prêt gratuit de porte-bébé préformés Chimparoo au besoin sous réservation.
Découvertes, sourires et surprises!






Vendredi 25 septembre: Randonnée au Saisonnier


 	 Stationnement: au stationnement du Saisonnier situé au 78 Chemin du Brûlé, Lac-Beauport, QC G3B 0P8

 	Observation de nos merveilles de la nature, chasse aux petits lutins coquins de la forêt, découverte des champignons, pause lecture.

.







Descriptif détaillé des activités nature à venir, et lieux différents chaque semaine, mais voici la session proposée. Les lieux sont sujets à changement:

- 25 septembre: Le Saisonnier, Lac-Beauport
- 2 octobre: La tourbière, Sainte-Brigitte-de-Laval
- 9 octobre: Sentiers de la Chapelle, Lac-Beauport
- 16 octobre: Les Dunes, Sainte-Brigitte-de-Laval
- 23 octobre: Sibéria des Bois, Lac-Beauport
- 30 octobre: Montagne à Deux Têtes, en bas, On souligne l\'Halloween!!!
- 6 novembre: Lac Neigette, Lac-Beauport
- 13 novembre: À déterminer selon la température
- 20 novembre: À déterminer selon la température
.

L\'activité a lieu beau temps, mauvais mais prenez note qu\'en cas de pluie extrême, un message courriel vous sera envoyé à 8h le dimanche matin pour vous préciser si l\'activité est reportée. 


À noter:


 	Nous n\'aurons pas accès à une toilette. Un changement de couche est conseillé avant de partir.
 	Précisez nous si vous aimeriez essayer un porte-bébé Chimparoo afin de nous assurer d\'en avoir en quantité suffisante. Il ne sera généralement pas possible d\'aller marcher avec une poussette. Le portage est donc le moyen privilégié. Si le sentier s\'y prête, nous vous informerons sur la possibilité d\'apporter votre poussette.
 	Apportez un rechange pour changer une couche, bouteille d\'eau, collation pour motiver vos petits, bonnes chaussures de marche imperméable ou de pluie, pour marcher confortablement dans la boue et l\'eau et pourquoi pas votre chocolat chaud!
 	Une distance de 2 mètres entre les adultes, et 1 mètre entre les enfants sera exigé en tout temps, et nous demandons à chaque parent de s\'assurer d\'être en mesure de respecter cette mesure. La bonne nouvelle c\'est que dehors, la distanciation est naturelle!
 	Un masque est exigé pour les personnes de plus de 10 ans pour l\'arrivée, le mot de bienvenue et si jamais la distanciation est difficile à respecter.
 	Apportez votre collation et breuvage chaud si vous le souhaiter. Nous ne distribuons plus de chocolat chaud en raison des mesures préventives de la Covid-19.


Pour plus d\'information contacter Maude, responsable des Matinées Mères-Enfants de Sainte-Brigitte-de-Laval


Ou composez le 581-888-9836


DTEND:20200925T110000
DTSTAMP:20260422T054201
DTSTART:20200925T093000
LAST-MODIFIED:20091109T101015Z
LOCATION:Le Saisonnier, 78 Chemin du Brûlé, Lac-Beauport, Québec, G3B 0P8
SUMMARY;LANGUAGE=en-us:Les générations en exploration au Saisonnier - Balade 2, Lac-Beauport 
BEGIN:VALARM
TRIGGER:-PT1440M
ACTION:DISPLAY
DESCRIPTION:Reminder
END:VALARM
END:VEVENT
END:VCALENDAR
