BEGIN:VCALENDAR
BEGIN:VEVENT
CLASS:PUBLIC
CREATED:20260422T102838
DESCRIPTION:

C\'est au Parc Gilbert Aubin de Piedmont que vous vivrez l\'après-midi la plus énergisante de votre semaine de relâche!


 


Venez apprendre les étapes pour construire un Quinzhee de façon sécuritaire en famille. 


Nous vous enseignerons également les techniques et les bases de survie pendant une aventure en camping d\'hiver. 


Il y a également la possibilité de faire de la raquette sur le site si vous avez le goût.


 


Vous pourrez déguster une collation santé gratuitement gracieuseté du Rachelle Bérry de Saint-Sauveur. 


 


Vous aurez besoin : Pelle (une par personne) 


 Bouteille d\'eau


 


Tarifs par famille (2 adultes, 3 enfants) : 25$


Adulte ou enfant supplémentaire: 5 $


 


Pour de plus ample informations:


Andréa Beaulieu


450-822-7486


espritalpin@gmail.com


DTEND:20200306T160000
DTSTAMP:20260422T102838
DTSTART:20200306T130000
LAST-MODIFIED:20091109T101015Z
LOCATION:Parc Gilbert Aubin, 685 Boulevard des Laurentides, Piedmont, Québec, J0R 1K0
SUMMARY;LANGUAGE=en-us:Construction d'un quinzhee + Base de survie en hiver - Laurentides
BEGIN:VALARM
TRIGGER:-PT1440M
ACTION:DISPLAY
DESCRIPTION:Reminder
END:VALARM
END:VEVENT
END:VCALENDAR
