BEGIN:VCALENDAR
BEGIN:VEVENT
CLASS:PUBLIC
CREATED:20260423T012330
DESCRIPTION:Randonnée découverte sur le sentier menant vers la Chute Delaney offerte en collaboration avec Minimum Café.

Distance approximative de 7 km au total sur le plat.

Nous profiterons du décor pour découvrir la nature, s\'émerveiller à chercher des merveilles de champignons et apprécier les oeuvres d\'art en nature installées le long du parcours.

Nous ajusterons le rythme et la distance en fonction du groupe, des parents et de nos Minis. L\'aller-retour se fera sur le même sentier.

Le portage est recommandé, mais le sentier demeure accessible aux poussettes à grosses roues.

Rendez-vous le dimanche matin à 9h45 à l\'accueil Shannahan. Accès aux sentiers est inclus dans le prix pour UN adulte. Gratuit pour les enfants.

Nous partirons de l\'accueil Shannahan à 10h00 et nous irons pique-niquer aux Chutes Delaney. Apportez votre lunch pour la famille. Retour à la marche suite au repas.

Nous offrons le prêt de porte-bébé Chimparoo gratuitement, avisez-nous à l\'avance.

L\'activité aura lieu à moins de risques d\'orage violent. Dans ce cas, l\'activité sera remise en octobre.
DTEND:20180930T140000
DTSTAMP:20260423T012330
DTSTART:20180930T094500
LAST-MODIFIED:20091109T101015Z
LOCATION:2180, Rang Saguenay, Saint-Raymond, Québec, G3L 3G3
SUMMARY;LANGUAGE=en-us:Randonnée découverte - Chute Delaney, Vallée Bras-du-Nord
BEGIN:VALARM
TRIGGER:-PT1440M
ACTION:DISPLAY
DESCRIPTION:Reminder
END:VALARM
END:VEVENT
END:VCALENDAR
