BEGIN:VCALENDAR
BEGIN:VEVENT
CLASS:PUBLIC
CREATED:20260422T112916
DESCRIPTION:Nous parlerons des bienfaits du grand air, des normes sociales, de l\'expérimentation et des enjeux.
L\'atelier présente comment intégrer davantage le plein air dans son quotidien en abordant le concept de la microaventure. Nous proposons quelques exemples créatives.
Finalement, nous parlerons des bienfaits de la pratique du jeu libre, actif et créatif.

 	L\'atelier est particulièrement créé pour les 0-5 ans.
 	La durée est de 60 minutes + une période de question à la fin.
 	Réservation obligatoire, places limitées
 	20$ pour un adulte, gratuit pour les enfants

Bienvenue à tous :)

Crédit photo: Amélie Floriot
DTEND:20200227T153000
DTSTAMP:20260422T112916
DTSTART:20200227T143000
LAST-MODIFIED:20091109T101015Z
LOCATION:Bougeotte et Placotine, 2815 rue Sherbrooke Est, Montréal, Québec, H2H1A2
SUMMARY;LANGUAGE=en-us:Atelier sur l'art de profiter du grand air avec ses tout-petits - Montréal
BEGIN:VALARM
TRIGGER:-PT1440M
ACTION:DISPLAY
DESCRIPTION:Reminder
END:VALARM
END:VEVENT
END:VCALENDAR
