BEGIN:VCALENDAR
BEGIN:VEVENT
CLASS:PUBLIC
CREATED:20260422T113322
DESCRIPTION:

Nous vous invitons à notre sortie de ski de fond pour toute la famille!


 


Pour les Ti-mousses de 4 à 9 ans, venez découvrir cette discipline ou l\'enfant développe sa coordination, sa persévérance et sont goût de profiter du grand air en famille.


 


Avec plusieurs jeux ludiques nous apprendrons les bases de la glisses, la technique de double poussée ainsi que différentes astuces pour rendre cette nouvelle aventure inoubliable. 


 


Tarifs: 20$ par famille (2 adultes + 3 enfants) 


Adulte ou enfant supplémentaire: 5$


 


Ce qui est INCLUS:


- Droit d\'accès sur les sentiers du Petit train du Nord


- Animation et prise en charge de votre famille


- Chocolat chaud offert par le Café de la Gare de Ste-Adèle


- Collation offerte par Rachel Béry Saint-Sauveur


 


***La location de ski de fond n\'est pas incluse mais vous avez la possibilité de louer votre équipement sur place à la boutique Espresso Sport de Sainte-Adèle.Nous aurons un tarif de groupe alors stp m\'envoyer par courriel l\'équipement que vous aurez besoin.


 


espritalpin@gmail.com


450-822-7486


 


À bientôt!! Andréa 


DTEND:20200216T130000
DTSTAMP:20260422T113322
DTSTART:20200216T100000
LAST-MODIFIED:20091109T101015Z
LOCATION:Gare de Mont-Rolland, Sainte-Adèle, 3065 Rue Rolland, Sainte-Adèle, Québec, J8B 1C9
SUMMARY;LANGUAGE=en-us:Initiation au ski de fond - Laurentides
BEGIN:VALARM
TRIGGER:-PT1440M
ACTION:DISPLAY
DESCRIPTION:Reminder
END:VALARM
END:VEVENT
END:VCALENDAR
