BEGIN:VCALENDAR
BEGIN:VEVENT
CLASS:PUBLIC
CREATED:20260422T112625
DESCRIPTION:Ti-Mousse dans Brousse - Outaouais vous invite à profitez des joies de l\'hiver dimanche le 16 février de 10h à 11h30 pour découvrir en raquette le parc du Lac Beauchamp.

Détails de l\'activité:
10h-10h30: Petite jasette sur la préparation à une rando hivernale, vêtements et principes de conservation de la chaleur pour petits et grands.
10h30-11h30: Balade en raquette amicale et adapté aux enfants et activité de découverte des traces d\'animaux dans la neige.

Rendez-vous à 10h, au pavillon Hélène-Larochelle
Lieu : Parc du Lac Beauchamp

Activité gratuite incluant
- Raquettes pour enfants au besoin
- Nous avons 2 Traineaux disponible 

Places limitées à 20 familles,
Réservation obligatoire sur le lien ci-bas.
Premiers arrivés, premiers servis.

Crédit photo: Paul MacKay
DTEND:20200216T113000
DTSTAMP:20260422T112625
DTSTART:20200216T100000
LAST-MODIFIED:20091109T101015Z
LOCATION:Parc du Lac Beauchamp, 741 Boulevard Maloney E,  Gatineau, Québec, 
SUMMARY;LANGUAGE=en-us:Découverte en raquette du Lac Beauchamp sur la traces des animaux
BEGIN:VALARM
TRIGGER:-PT1440M
ACTION:DISPLAY
DESCRIPTION:Reminder
END:VALARM
END:VEVENT
END:VCALENDAR
