BEGIN:VCALENDAR
BEGIN:VEVENT
CLASS:PUBLIC
CREATED:20260422T121439
DESCRIPTION:

 


*** ANNULATION pour cause de verglas***

Maintenant que l’hiver est arrivé, quoi de mieux qu’une belle sortie en plein air pour profiter des bienfaits du grand air avec vos petits mousses! 


 


Plusieurs éléments sont à prendre en considération afin de planifier vos sorties hivernales avec un bébé. Nous vous proposons différents trucs et astuces pour en profiter pleinement et en toute sécurité. 


 


Joignez-vous à nous pour un atelier d’initiation aux sorties d’hiver avec bébé et touts petits, suivi d’une chasse aux merveilles sur le sentier de la sucrerie dans le Parc de la Gatineau (33 chemin Scott à Chelsea).


 


Déroulement de l’activité:


10h: Accueil dans le petit refuge situé près du stationnement 


10h15: Atelier d’initiation aux sorties d’hiver et discussion pour répondre à vos questions


10h45: Chasse aux merveilles sur le sentier de la sucrerie (1,9 km)


 


Frais d’inscription de 15$ par famille.


Inscription obligatoire


 


Crédit photo: Paul Mackay


DTEND:20200112T120000
DTSTAMP:20260422T121439
DTSTART:20200112T100000
LAST-MODIFIED:20091109T101015Z
LOCATION: Sentier Sucrerie ,  Sentier Sucrerie , Chelsea, Québec, J9B 1R5 
SUMMARY;LANGUAGE=en-us:ANNULATION - Outaouais - Initiation aux sorties d'hiver et chasse aux merveilles
BEGIN:VALARM
TRIGGER:-PT1440M
ACTION:DISPLAY
DESCRIPTION:Reminder
END:VALARM
END:VEVENT
END:VCALENDAR
