BEGIN:VCALENDAR
BEGIN:VEVENT
CLASS:PUBLIC
CREATED:20260422T170452
DESCRIPTION:En collaboration avec Un goût de forêt, Ti-Mousse dans Brousse Laurentides vous invite à venir découvrir quelles sont les sources de nourriture qui se cachent en forêt l’hiver lors d’une randonnée en raquette au Parc de la Rivière Doncaster !

À travers des jeux et des mises en situation, petits et grands apprendront à identifier les arbres et les plantes comestibles, mais aussi les plantes toxiques qu’il faut éviter.

Autour d’un feu, nous préparerons tous ensemble une tisane boréale à base de plantes vues lors de la randonnée. Ce sera l’occasion pour tous de découvrir les plantes à travers les odeurs, les saveurs, le toucher et le goût !
Apportez votre lunch, ce sera agréable de manger tous ensembles.

Tarif par famille (2 adultes et 3 enfants) : 30 $
Enfants ou Adultes additionnels : 5 $

Pour informations ou renseignements supplémentaires
Andréa Beaulieu: 450-822-7486
espritalpin@gmail.com
DTEND:20200119T130000
DTSTAMP:20260422T170452
DTSTART:20200119T100000
LAST-MODIFIED:20091109T101015Z
LOCATION:Parc de Doncaster, 4672 Chemin de la Doncaster, Sainte-Adèle, Québec, J8B 1R8
SUMMARY;LANGUAGE=en-us:Laurentides - Raquette et Découverte: plantes comestibles d'hiver
BEGIN:VALARM
TRIGGER:-PT1440M
ACTION:DISPLAY
DESCRIPTION:Reminder
END:VALARM
END:VEVENT
END:VCALENDAR
