BEGIN:VCALENDAR
BEGIN:VEVENT
CLASS:PUBLIC
CREATED:20260422T121615
DESCRIPTION:Ti-Mousse dans Brousse Estrie vous invite à venir profiter des joies de l\'hiver lors d\'une courte randonnée en raquette sur le majestueux mont Bellevue. En famille, venez retrouver les peluches qui se sont cachées dans la forêt pour faire leurs activités hivernales préférées.

Dans un cadre ludique, vous serez invités à en apprendre davantage sur les animaux de la forêt durant une randonnée animée d\'environ 1 km. Par la suite, vous pourrez vous réchauffer avec Mishka Tisanes fruitées et  notre bar à chocolat chaud, puis écouter un conte sur le bord du feu. Chaque enfant doit être accompagné d\'un parent.

Quand : 18 janvier 2020 de 9 h 30 à 11 h 30 

*remis au 19 janvier en cas de mauvaises conditions climatiques. Une confirmation sera envoyée aux participants la veille de l\'activité.

Réservation obligatoire. Date limite d\'inscription : 9 janvier 2020.

Coût de l\'activité :

15 $/adulte non membre

12,50$/adulte membre

Grâce à l\'école de glisse du mont-Bellevue, la location de raquettes est possible pour 5 $ par personne jusqu\'à l\'épuisement des stocks. Vous devez nous en faire la demande par courriel au minimum une semaine avant l\'activité.

Grandeurs de raquettes disponibles : 3 à 5 ans / 6 à 15 ans / Adultes

Sur demande, nous faisons la location gratuite d\'un porte-bébé à essayer pendant la randonnée en collaboration avec Le Capucin de Sherbrooke. Vous devez réserver votre porte-bébé au plus tard une semaine avant l\'activité.

Apportez :

 	Des vêtements confortables et adaptés aux conditions hivernales
 	De l\'eau en quantité suffisante
 	Des vêtements de rechange au besoin

Pour plus de renseignements :

Angélie Bellerose-Langlois

450 271-6288

angelie.b.langlois@gmail.com
DTEND:20200118T113000
DTSTAMP:20260422T121615
DTSTART:20200118T213000
LAST-MODIFIED:20091109T101015Z
LOCATION:Mont Bellevue (départ Chalet Antonio-Pinard), 1440 rue Brébeuf, Sherbrooke, Québec, J1H 3G2
SUMMARY;LANGUAGE=en-us:JOIES DE L'HIVER - RANDONNÉE EN RAQUETTES À LA DÉCOUVERTE DES ANIMAUX
BEGIN:VALARM
TRIGGER:-PT1440M
ACTION:DISPLAY
DESCRIPTION:Reminder
END:VALARM
END:VEVENT
END:VCALENDAR
