BEGIN:VCALENDAR
BEGIN:VEVENT
CLASS:PUBLIC
CREATED:20260422T131415
DESCRIPTION:A l’approche de Noël, Ti-Mousse dans Brousse vous invite à participer à une chasse aux lutins dans le petit sentier des pionniers situé à l’entrée du Parc de la Gatineau.

Des lutins se sont échappés de l’atelier du Père Noël pour aller s’amuser dans la forêt et découvrir des petites merveilles. Saurez-vous tous les retrouver? Habillez-vous chaudement et partez à leur recherche avec nous!

Déroulement de l’activité:
10h : Accueil dans le stationnement P3 du Parc de la Gatineau
10h15: lecture d’une petite histoire
10h30: début de la chasse aux lutins sur le sentier des pionniers (boucle de 1,3 km).

Inscription obligatoire sur le site de Ti-Mousse dans Brousse (15$ par famille). Places limitées.
DTEND:20191207T120000
DTSTAMP:20260422T131415
DTSTART:20191207T100000
LAST-MODIFIED:20091109T101015Z
LOCATION:Parc national de la Gatineau, 33 Chemin Scott,  Chelsea, Québec, J9B 1R5
SUMMARY;LANGUAGE=en-us:Chasse aux petits lutins des Bois - Parc de la Gatineau
BEGIN:VALARM
TRIGGER:-PT1440M
ACTION:DISPLAY
DESCRIPTION:Reminder
END:VALARM
END:VEVENT
END:VCALENDAR
