BEGIN:VCALENDAR
BEGIN:VEVENT
CLASS:PUBLIC
CREATED:20260422T131507
DESCRIPTION:

Samedi le 7 décembre à 9h, joignez-vous à notre gang de passionnés qui vous expliquerons la démarche de recensement des oiseaux de Noël, quelques trucs et astuces pour repérer les oiseaux, les espèces qu’on risque de croiser et ensuite on début notre balade découverte. À 11h on fait un retour sur l’activité en collaboration avec le Club des ornithologues de Québec qui seront là pour nous accompagner tout au long de notre balade découverte.


 


Date : samedi le 7 décembre, remis au 8 en cas de mauvais temps de 9h à 11h45


 


Point de rendez-vous : stationnement du Domaine de Maizerets, situé au 2000, boul. Montmorency


 


Quoi amener : jumelles et guides d’identification des oiseaux pour celles et ceux qui en ont, gourde d’eau et collation. Vêtements chauds, surtout que quand on observe les oiseaux il faut parfois rester immobile plusieurs minutes.


 


Coût : gratuit


 


Réservation obligatoire


DTEND:20191207T114500
DTSTAMP:20260422T131507
DTSTART:20191207T090000
LAST-MODIFIED:20091109T101015Z
LOCATION:Domaine Maizerets, 2000, boul. Montmorency, Québec, , G1J 5E7
SUMMARY;LANGUAGE=en-us:Recensement des oiseaux de Noël
BEGIN:VALARM
TRIGGER:-PT1440M
ACTION:DISPLAY
DESCRIPTION:Reminder
END:VALARM
END:VEVENT
END:VCALENDAR
