BEGIN:VCALENDAR
BEGIN:VEVENT
CLASS:PUBLIC
CREATED:20260422T131037
DESCRIPTION:À l’approche de la période des fêtes, Ti-Mousse dans Brousse Charlevoix, Camp le Manoir et la municipalité des Éboulements ont décidé d’organiser une activité familiale le dimanche 1er décembre 2019 de 9h30h à 13h au Camp le Manoir. Bienvenue aux grands-parents!

Déroulement:
– 9h15h: Accueil
– 9h30-10h15: Yoga en pyjama pour petits et grands
(apporter vos tapis de yoga ou serviette)
– 10h30-11h30: Chasse aux petits lutins des Bois (randonnée dans une forêt magique pour aider le père Noël à retrouver 15 lutins paresseux qui doivent retourner à leur atelier aider à la fabrication des cadeaux pour permettre à tous les amis de recevoir quelque chose sous son arbre de Noël cette année…
– Feu de camp, chocolat chaud et dîner pour finir l’avant-midi!

Réservation obligatoire. Date limite le 21 novembre.

Gratuit pour les enfants entre 0 et 8 ans (dîner inclus)
Gratuit pour les résidents des Éboulements (dîner inclus)
15$ pour les 9 ans et plus, non-résident des Éboulements (dîner inclus)

Venez nous voir avec votre plus beau pyjama et habillez-vous chaudement pour la balade en forêt!
Pour plus d’informations: programme@camplemanoir.qc.ca
Annick Gauthier : 418-635-2666
DTEND:20191201T130000
DTSTAMP:20260422T131037
DTSTART:20191201T093000
LAST-MODIFIED:20091109T101015Z
LOCATION:Camp Le Manoir, 2058 Route du Fleuve, Les Éboulements, Qc, G0A 2M0
SUMMARY;LANGUAGE=en-us:Yoga pyjama et chasse aux lutins des bois
BEGIN:VALARM
TRIGGER:-PT1440M
ACTION:DISPLAY
DESCRIPTION:Reminder
END:VALARM
END:VEVENT
END:VCALENDAR
