BEGIN:VCALENDAR
BEGIN:VEVENT
CLASS:PUBLIC
CREATED:20260422T131356
DESCRIPTION:

Profitez du mois de novembre pour vous ré-énergiser, découvrir et développer de nouvelles habilités en compagnie de vos petits singes. Initiez vos enfants à l\'escalade intérieure avec des grimpeurs fort inspirants! 


 


L\'escalade est un sport unique, sécuritaire et accessible à tous. C\'est une superbe activité à vivre en famille qui permet de repousser ses limites, de développer sa confiance en soi et ses aptitudes motrices, de travailler la résolution de problème et augmenter sa confiance envers les autres. 


 


Une deuxième collaboration avec Passion Escalade qui se tiendra au centre d\'escalade intérieur Roc Gyms où vos enfants et vous pourrez expérimenter l\'escalade de voie (avec une corde sur une hauteur d\'environ 13 mètres), l\'escalade de bloc (sans corde sur une hauteur de 3 mètres), la slackline et des parcours aérien. 


 


Notre activité est conçue pour permettre aux parents et ses enfants de s\'initier à ce sport. Vous êtes donc tous les bienvenue, à partir de 3 ans sans limite d\'âge! 


 


Quand:


1 décembre de 9h30 à 12h30


 


Coût par duo parent-enfant:


Une matinée d\'escalade duo parent-enfant: 37$ plus taxes (42,50$)


 


Inclus: 


- Des guides compétents et sympathiques, l\'accès au Roc Gyms pour un adulte et son enfant, harnais, équipement d\'escalade et boisson chaude


 


Nous exigeons un ratio de 1 adulte pour un 1 enfant afin de faciliter le bon déroulement sécuritaire de notre activité.


 


Apportez: 


- Des souliers de sports qui tiennent bien le pied


- Des vêtements confortables et adaptés à une amplitude de mouvement


- Une collation


- Une bouteille d\'eau


DTEND:20191201T123000
DTSTAMP:20260422T131356
DTSTART:20191201T093000
LAST-MODIFIED:20091109T101015Z
LOCATION:Roc Gyms, 2350 Avenue du Colisée, Québec, Québec, G1L 5A1
SUMMARY;LANGUAGE=en-us:Initiation 3 à l'escalade intérieure - Québec
BEGIN:VALARM
TRIGGER:-PT1440M
ACTION:DISPLAY
DESCRIPTION:Reminder
END:VALARM
END:VEVENT
END:VCALENDAR
