BEGIN:VCALENDAR
BEGIN:VEVENT
CLASS:PUBLIC
CREATED:20260423T012455
DESCRIPTION:



Cet atelier offert en collaboration avec Minimum Café abordera trucs et astuces pour faire de la randonnée avec un bébé:

- Choix de la destination en fonction de l\'accessibilité, du temps et de l\'âge des enfants

- Le matériel essentiel à emporter et les différentes options de portage

- L\'intégration de la routine dans une randonnée (progression, gestion des siestes et des boires)

- Trucs favorisant l\'animation et le plaisir chez les petits comme chez les grands




DTEND:20180918T144500
DTSTAMP:20260423T012455
DTSTART:20180918T133000
LAST-MODIFIED:20091109T101015Z
LOCATION:96, route 138, Donnacona, Québec, G3M 1B4
SUMMARY;LANGUAGE=en-us:Atelier: L'ABC de la randonnée avec bébé
BEGIN:VALARM
TRIGGER:-PT1440M
ACTION:DISPLAY
DESCRIPTION:Reminder
END:VALARM
END:VEVENT
END:VCALENDAR
