BEGIN:VCALENDAR
BEGIN:VEVENT
CLASS:PUBLIC
CREATED:20260422T131102
DESCRIPTION:À l’approche de la période des fêtes, Ti-Mousse dans Brousse des Laurentides et Esprit Alpin, en collaboration avec la Ville de Morin Heights ont décidé d’organiser une activité familiale dimanche le 8 Décembre 2019 de 13h à 16h au Chalet Bellevue de Morin Heights.

Déroulement de l\'activité:
- 13h: Accueil
- 13h30-14h15: Yoga en pyjama pour petits et grands
(apporter vos tapis de yoga ou serviette)
- 14h30-15h30: Chasse aux petits lutins des Bois (randonnée dans une forêt magique pour aider le Père Noël à retrouver 15 lutins paresseux qui doivent retourner à leur atelier aider à la fabrication des cadeaux pour permettre à tous les amis de recevoir quelque chose sous son arbre de Noël cette année...
- Feu de camp, chocolat chaud et collations pour finir la journée!

Réservation obligatoire.
25$ pour un adulte et ses enfants

10$ par adulte additionnel de la même famille (incluant le 2e parent, les grands-parents, etc.)



Venez nous voir avec votre plus beau pyjama et habillez-vous chaudement pour la balade en forêt!
Pour plus d\'informations: espritalpin@gmail.com
Andréa: 450-822-7486
DTEND:20191208T160000
DTSTAMP:20260422T131102
DTSTART:20191208T130000
LAST-MODIFIED:20091109T101015Z
LOCATION:Chalet Bellevue, 27 Rue Bellevue, Morin-Heights, Québec, J0R 1H0
SUMMARY;LANGUAGE=en-us:Chasse aux lutins et yoga en pyjamas
BEGIN:VALARM
TRIGGER:-PT1440M
ACTION:DISPLAY
DESCRIPTION:Reminder
END:VALARM
END:VEVENT
END:VCALENDAR
