BEGIN:VCALENDAR
BEGIN:VEVENT
CLASS:PUBLIC
CREATED:20260422T135412
DESCRIPTION:Venez découvrir les bases de la survie en milieu naturel avec vos ti-mousses!

À l\'aide de jeux éducatifs, vous apprendrez à vous débrouillez avec ce que la nature peut vous offrir et développerez par le fait même, une relation plus saine avec celle-ci.

Nous verrons notamment :
-Abris : Plusieurs types d’abris pour la survie en solo ou en groupe.
-Feu : Nous allons explorer et s\'enrichir de différentes méthodes et techniques.
-Pistage : Sentir, observer et trouver des traces d\'animaux, vos ti-mousses devront garder l’œil ouvert dans la forêt du Parc John Molson.

Vous aurez besoin :
-De vêtements appropriés à la température. Il vaut mieux porter plusieurs couches afin de pouvoir s’adapter à la météo et au niveau d’efforts.
-Couverture pour mettre sur le sol, collation et bouteille d\'eau
-POUR PARENTS SEULEMENT: Un couteau de poche de type canif rangé dans un étui.

Vous devez vous inscrire sur le site de Ti-Mousse dans Brousse avant le 8 Novembre au lien disponible en haut de la page.

Coût par famille (maximum 2 adultes/3 enfants) : 25$ 

5$ par enfant additionnel


Pour d\'autres informations veuillez contacter:
Andréa Beaulieu 450-822-7486
espritalpin@gmail.com
DTEND:20191109T120000
DTSTAMP:20260422T135412
DTSTART:20191109T093000
LAST-MODIFIED:20091109T101015Z
LOCATION:Parc John-H. Molson, Rue Viviane, Saint-Sauveur, Québec, J0R 1R4
SUMMARY;LANGUAGE=en-us:La survie en famille
BEGIN:VALARM
TRIGGER:-PT1440M
ACTION:DISPLAY
DESCRIPTION:Reminder
END:VALARM
END:VEVENT
END:VCALENDAR
