BEGIN:VCALENDAR
BEGIN:VEVENT
CLASS:PUBLIC
CREATED:20260422T143905
DESCRIPTION:Nous partons à la découverte du Parc de Plaisance en compagnie d\'un passionné des oiseaux.

Une balade automnale adaptée à nous, familles avec petits aventuriers. Nous en apprendrons sur les oiseaux migrateurs et si l\'on est chanceux et discrets (ehehe c\'est un défi avec les petits), nous aurons peut-être la chance d\'en observer quelques-uns et de découvrir (ou reproduire) l\'habitat de certaines espèces.

Nous y serons peu importe la température (à moins de blizzard impraticable) ... on s\'habille pour toutes éventualités et le tour est joué !

Joignez-vous à nous, nous avons hâte de vous voir!

------

Durée : 10 h 30 à 12 h 00. Prévoyez un pique-nique si vous voulez profiter du site du Parc de Plaisance SEPAQ après l\'activité !

Lieu de rencontre: 10 h 30 Stationnement du Marais de la zizanie. Cherchez le drapeau Ti-Mousse dans Brousse !

(De l\'autoroute 50, prendre la sortie 197, puis la montée Papineau vers le sud jusqu\'à Plaisance. Une fois passé l\'intersection de la rue Principale (route 148), la montée Papineau devient le chemin des Presqu\'îles. Continuer jusqu\'à l\'accueil, situé au 1001, chemin des Presqu\'îles.)

Coût: 15 $ par famille (non-remboursable), tarif d\'entrée au Parc inclus ! Cette activité est offerte en collaboration avec la SEPAQ.

Réservation obligatoire, places limitées.

SVP nous indiqué le nombre d\'adultes et d\'enfants qui composent votre famille lors de l\'inscription. Merci!

Crédit photo: Mano photographie
DTEND:20191019T120000
DTSTAMP:20260422T143905
DTSTART:20191019T100000
LAST-MODIFIED:20091109T101015Z
LOCATION:Parc national de Plaisance, 1001, chemin des Presqu'îles, Plaisance , Québec, J0V 1S0
SUMMARY;LANGUAGE=en-us:Tous aux p'tits oiseaux - Outaouais
BEGIN:VALARM
TRIGGER:-PT1440M
ACTION:DISPLAY
DESCRIPTION:Reminder
END:VALARM
END:VEVENT
END:VCALENDAR
