BEGIN:VCALENDAR
BEGIN:VEVENT
CLASS:PUBLIC
CREATED:20260422T143436
DESCRIPTION:Dans un trajet en montagne balisé pour toute la famille, venez découvrir et observer la magie automnale au Sommet Saint-Sauveur.

Nous arrêterons au cours de la randonnée pour faire un bricolage d\'automne avec des éléments de la nature trouvés dans les sentiers. (Apporter panier ou sac pour la cueillette)

Par la suite nous reviendrons au Parc F.U.N là ou chaque enfant recevra un billet d\'entrée GRATUITEMENT pour les manèges.

Prix par famille (2 adultes/3 enfants): 25$
Adultes ou enfants supplémentaires: 5$ de plus
Veuillez acheter votre billet via: https://timoussedansbrousse.com/evenements-calendrier/?month=oct&amp;yr=2019

Pour plus d\'informations: espritalpin@gmail.com
450-822-7486
DTEND:20191012T120000
DTSTAMP:20260422T143436
DTSTART:20191012T100000
LAST-MODIFIED:20091109T101015Z
LOCATION:Sommet du Mont St-Sauveur, 350 Avenue St Denis, Saint-Sauveur, Québec, J0R 1R3
SUMMARY;LANGUAGE=en-us:Rando-Brico en famille - Laurentides
BEGIN:VALARM
TRIGGER:-PT1440M
ACTION:DISPLAY
DESCRIPTION:Reminder
END:VALARM
END:VEVENT
END:VCALENDAR
