BEGIN:VCALENDAR
BEGIN:VEVENT
CLASS:PUBLIC
CREATED:20260422T155858
DESCRIPTION:La première activité officielle de Ti-Mousse dans Brousse - Outaouais !!

Venez découvrir les sentiers du Centre plein air du Lac Beauchamp en famille, et prendre part à votre première (ou prochaine) chasse aux champignons.

Une activité d\'initiation au merveilleux monde des champignons pour toute la famille en compagnie d\'un mycologue aguerri.

Durée : 11 h 00 à 12 h 30. Prévoyez un pique-nique si vous voulez profiter du Centre plein air après l\'activité !

Lieu de rencontre: 11 h 00 sous l\'abris à tous près du centre plein air Hélène-Larochelle. Cherchez le drapeau Ti-Mousse dans Brousse !

Coût: Gratuit ! Cette activité est offerte par la Ville de Gatineau.

Réservation obligatoire, places limitées.


Crédit photo: Christyna Mérette
DTEND:20190922T123000
DTSTAMP:20260422T155858
DTSTART:20190922T110000
LAST-MODIFIED:20091109T101015Z
LOCATION:, 741 Boulevard Maloney Est, Gatineau , Québec, 
SUMMARY;LANGUAGE=en-us:Outaouais - Chasse aux champignons
BEGIN:VALARM
TRIGGER:-PT1440M
ACTION:DISPLAY
DESCRIPTION:Reminder
END:VALARM
END:VEVENT
END:VCALENDAR
