BEGIN:VCALENDAR
BEGIN:VEVENT
CLASS:PUBLIC
CREATED:20260422T154530
DESCRIPTION:L\'escalade est un sport unique, sécuritaire et accessible à tous. C\'est une superbe activité à vivre en famille qui permet de repousser ses limites, de développer sa confiance en soi et ses aptitudes motrices, de travailler la résolution de problème et augmenter sa confiance aux autres.

Notre activité est conçue pour permettre aux parents et ses enfants de s\'initier à ce sport. Vous êtes donc tous les bienvenue, à partir de 3 ans sans limite d\'âge! Vous pouvez inscrire uniquement votre enfant, ou grimper à ses côtés en même temps que lui. Notre première collaboration avec Passion Escalade, vous et vos enfants adorerez ces crinqués d\'escalade!

Venez repousser vos limites avec nous dimanche le 29 septembre prochain de 9h30 à 14h!

Inclus:
- Tout l\'équipement (casque, harnais, corde, etc.)
- Instructeurs compétents et certifiés de Passion Escalade
- Un breuvage chaud
- 2 heures de grimpe

Tarif:
90$ pour un duo, un adulte et un enfant (Tarif préférentiel pour les grandes familles: 30$ pour un enfant additionnel, 40$ pour un adulte additionnel)

40$ pour un enfant seulement

En cas de pluie: remis au 6 octobre.

Apportez:
- Collation
- Bouteille d\'eau
- Crème solaire
- Lunch
- Vêtements de sport confortable
- Souliers de sport confortables et bien attachés

Les bébés sont les bienvenues gratuitement évidemment pour venir s\'inspirer et encourager leurs grands frères et grandes soeurs!

Places limitées, réservation obligatoire

À noter: Vous devrez complété un formulaire médical le matin même avant de débuter l\'activité pour nous assurer de connaitre votre bilan santé et possiblement, vos restrictions médicales.
DTEND:20190929T140000
DTSTAMP:20260422T154530
DTSTART:20190929T093000
LAST-MODIFIED:20091109T101015Z
LOCATION:Pylone de Québec, , , , 
SUMMARY;LANGUAGE=en-us:Initiation à l'escalade de rocher parent-enfant - Pylône de Québec
BEGIN:VALARM
TRIGGER:-PT1440M
ACTION:DISPLAY
DESCRIPTION:Reminder
END:VALARM
END:VEVENT
END:VCALENDAR
