BEGIN:VCALENDAR
BEGIN:VEVENT
CLASS:PUBLIC
CREATED:20260423T003427
DESCRIPTION:
Yoga et randonnée offerts gratuitement grâce à la précieuse collaboration de la Sépaq et du Parc national du Mont-Saint-Bruno


Dimanche le 14 octobre débutez la journée avec nous par un yoga extérieur parents/enfants de l\'étang aux Hérons.





Rendez-vous au stationnement P3 situé au départ du sentier Le Grand-Duc, juste à côté de l\'étang aux Hérons à 9h. Vous verrez notre tente et nos couleurs tout près du bloc sanitaire situé à proximité du stationnement P3.



Le Yoga débute à 9h15 avec la formidable Andrea Beaulieu de Esprit Alpin, pas besoin d\'en avoir fait auparavant. Le cours sera facile à suivre et intéressant pour petits et grands d\'une durée d\'environ 30 minutes. Apportez votre tapis ou une couverture pour un meilleur confort.





À 10h nous partons marcher sur le sentier de Le Grand-Duc et ajusterons le rythme et le parcours de la randonnée en fonction de l\'énergie du groupe. D\'une distance de 3,5 km sans dénivelé, cette randonnée est accessible à tous et le portage est de mise.





Nous offrons le prêt gratuitement de porte-bébé Chimparoo, l\'Écharpe Porte Bonheur, simplement nous aviser à l\'avance.


Pique-nique libre au retour et modules de jeux.




Réservation obligatoire.





À noter que vous aurez les frais d\'accès du parc de 8,60$ par adulte à débourser si vous n\'avez pas d\'accès annuel, gratuit pour les enfants de 17 ans et moins.

Crédit photo: Paul Mackay

DTEND:20181014T140000
DTSTAMP:20260423T003427
DTSTART:20181014T090000
LAST-MODIFIED:20091109T101015Z
LOCATION:Parc national du Mont-Saint-Bruno, 330 Rang des Vingt Cinq E, Saint-Bruno-de-Montarville, Québec, J3V 4P6
SUMMARY;LANGUAGE=en-us:Yoga et rando au parc national du Mont-Saint-Bruno
BEGIN:VALARM
TRIGGER:-PT1440M
ACTION:DISPLAY
DESCRIPTION:Reminder
END:VALARM
END:VEVENT
END:VCALENDAR
