BEGIN:VCALENDAR
BEGIN:VEVENT
CLASS:PUBLIC
CREATED:20260422T154110
DESCRIPTION:Ti-Mousse dans Brousse sera au Parc national du Mont-Orford pour la Journée des parcs nationaux du Québec, afin de présenter un atelier \"Les clés pour faire de votre enfant votre meilleur compagnon d\'aventure\". C\'est gratuit!

Cet atelier n’est pas une session d’information qui assurera automatiquement le succès de vos aventures en famille ni qui assurera que votre enfant deviendra un grand explorateur. Néanmoins, cette présentation permettra certainement de vous outiller pour partir du bon pied vos aventures familiales.

Nous aborderons:

- Les différentes perceptions de l’aventure et le concept de microaventure;

- Apprendre à stimuler la curiosité plutôt que l\'anxiété chez nos enfants par le jeu libre, la prise de risques calculés pour un maximum de plaisir;

- Le rôle du parent comme modèle et source d\'inspiration;

- Des trucs et astuces pour mettre une touche de magie à vos sorties.

L\'atelier, qui débutera à 10 h, sera suivi d\'une petite randonnée en forêt pour faire bouger vos ti-mousses! Une belle occasion de découvrir la nature et de s\'émerveiller devant les petites choses. C\'est un rendez-vous, à 10 h, à l\'amphithéâtre du centre de services Le Bonnallie! :)

Pour consulter la programmation complète : https://www.sepaq.com/pq/journee-parcs-nationaux/parc-national-mont-orford.dot

Crédit photo: Christyna Mérette
DTEND:20190907T123000
DTSTAMP:20260422T154110
DTSTART:20190907T103000
LAST-MODIFIED:20091109T101015Z
LOCATION:Parc national du Mont-Orford, 3321 Chemin du Parc, Orford, Québec,, J1X 7A2
SUMMARY;LANGUAGE=en-us:Atelier Ti-Mousse Journée des parcs nationaux - Mont-Orford
BEGIN:VALARM
TRIGGER:-PT1440M
ACTION:DISPLAY
DESCRIPTION:Reminder
END:VALARM
END:VEVENT
END:VCALENDAR
