BEGIN:VCALENDAR
BEGIN:VEVENT
CLASS:PUBLIC
CREATED:20260422T153406
DESCRIPTION:Dans le cadre de la Journée Porte ouverte du plein air le 14 septembre prochain à Vallée Jeunesse, il nous fait plaisir de vous offrir un combo balade découverte de la forêt et vélo.

Nous vous offrons un parcours libre en forêt de pushbike (vélo d\'équilibre) pour les 2 à 6 ans en collaboration avec l\'escouade mobile d\'Empire 47.

Départ à 10h30 pour une Chasse aux merveilles pour découvrir les plantes médicinales et comestibles et chercher les plus beaux champignons. Nous traverserons une piste d\'hébertisme parfaite pour les petits.

Horaire de 10h à 14h
Départ pour la Chasse aux merveilles: 10h30
Pushbike de 10h à 14h
Cherche et trouve de 10h à 14h

Apportez votre lunch pour profiter du site de Vallée Jeunesse! C\'est tellement beau!

Autres activités offertes sur le site:
- Initiation au canot sur la rivière Jacques-Cartier
- Parcours d’hébertisme aérien (sur réservation, place limitée)
- Yoga Géant, avec Yogi nomade
- Slackline Québec
- Dégustation

Une activité réalisée au profit de la Fondation des Camps Odyssées.

Premiers arrivés, premiers servis!
Qui vient nous voir?

Crédit photo: Christyna Mérette
DTEND:20190914T140000
DTSTAMP:20260422T153406
DTSTART:20190914T100000
LAST-MODIFIED:20091109T101015Z
LOCATION:Vallée Jeunesse, 1895 Boulevard Valcartier, Saint-Gabriel-de-Valcartier, Qc, G0A 4S0
SUMMARY;LANGUAGE=en-us:Journée découverte Ti-Mousse - Odyssée Aventures
BEGIN:VALARM
TRIGGER:-PT1440M
ACTION:DISPLAY
DESCRIPTION:Reminder
END:VALARM
END:VEVENT
END:VCALENDAR
