BEGIN:VCALENDAR
BEGIN:VEVENT
CLASS:PUBLIC
CREATED:20260422T235350
DESCRIPTION:Lancement du Club d\'exploration Ti-Mousse dans Brousse de la Ville de Québec

Quoi
Sorties familiales extérieures qui vous permettront de découvrir ou redécouvrir différents parcs et sites naturels à chaque semaine. Une occasion pour randonnée avec bébé et d\'apprendre à transformer les petites choses en moments grandioses. Nos sorties ont lieu même sous la pluie mais en cas d\'orages, 3 ateliers pourront être offerts en remplacement de nos balades d\'exploration.
Idéal pour les 0-5 ans.Nous offrons le prêt gratuit de porte-bébé préformés Chimparoo au besoin sous réservation.
Découvertes, surprises, invités spéciaux et chocolat chaud inclus!

Début: 12 septembre 2018 de 9h30 à 11h
Durée: 10 semaines
Lieu: Différents à chaque semaine, À noter qu\'un courriel vous sera transmis une semaine avant le début de nos activités pour vous fournir tous les détails nécessaires incluant le sites naturels, le lieu de rencontre, la thématique de la semaine. Les sites énumérés ci-bas sont sujet à changement selon la température, plus d\'information à venir sous peu.


 	12 septembre: Domaine Maizerets, pavillon d\'accueil Maison Maizerets

Autres lieux visités au courant de la saison:

 	Bois de Coulonge
 	Parc Chauveau
 	Les abords de la Rivière-Saint-Charles
 	Chute Kabir Kouba
 	Les plaines d\'Abraham version boisée
 	
Domaine Vie-Nergie à la limite de Ste-Foy
 	Parc de la rivière Beauport
 	
Base de plein air de Val Bélair
 	
Base de plein air Ste-Foy


Coût: 105$ par famille, peu importe le nombre d\'enfants

Réservation obligatoire ici.
Pour plus d\'information composez le 581-888-9836
DTEND:20181114T110000
DTSTAMP:20260422T235350
DTSTART:20180912T093000
LAST-MODIFIED:20091109T101015Z
LOCATION:Domaine Maizerets, 2000 Boulevard Montmorency, Québec, Québec, G1J 5E7 
SUMMARY;LANGUAGE=en-us:Club d'exploration Ville de Québec - COMPLET
BEGIN:VALARM
TRIGGER:-PT1440M
ACTION:DISPLAY
DESCRIPTION:Reminder
END:VALARM
END:VEVENT
END:VCALENDAR
