BEGIN:VCALENDAR
BEGIN:VEVENT
CLASS:PUBLIC
CREATED:20260422T172844
DESCRIPTION:Ti-Mousse dans Brousse, en partenariat avec Carbure Aventure, invitent les familles à trouver dans les bois 15 lutins coquins sortis du Pôle Nord pour fêter le Noël des campeurs!

Les enfants et leurs parents pourront faire une courte randonnée dans un sentier adapté aux poussettes et aux petits mousses afin de trouver des peluches de lutins qui mettront en scène différentes activités en nature : camping, pêche, etc.

Une belle occasion de prendre l\'air, de faire le plein de nature et d\'initier les enfants à la randonnée dans un contexte ludique et enchanteur. À la fin du parcours, les enfants pourront se faire raconter un conte et déguster des biscuits du père Noël en plus de participer à une autre activité surprise!

INSCRIPTIONS OBLIGATOIRES

10$ par famille (2 adultes et les enfants)

Les participants peuvent arriver entre 9 h et 10 h 30.

L\'activité aura lieu beau temps, mauvais temps, mais pourrait être annulée en cas de pluie trop abondante ou d\'orages.
DTEND:20190727T103000
DTSTAMP:20260422T172844
DTSTART:20190727T090000
LAST-MODIFIED:20091109T101015Z
LOCATION:Base Plein Air André-Nadeau , 5302 chemin Blanchette, Sherbrooke, Québec, J1N 0C7
SUMMARY;LANGUAGE=en-us:Sherbrooke - Noël des campeurs avec Chasse aux lutins des bois
BEGIN:VALARM
TRIGGER:-PT1440M
ACTION:DISPLAY
DESCRIPTION:Reminder
END:VALARM
END:VEVENT
END:VCALENDAR
