BEGIN:VCALENDAR
BEGIN:VEVENT
CLASS:PUBLIC
CREATED:20260422T172051
DESCRIPTION:Une sortie amusante au Parc de la rivière Doncaster de Sainte-Adèle se prépare.

Une randonnée adaptée aux enfants de 4 à 8 ans, un conte merveilleux en pleine nature vous guidera vers une séance de yoga pour les petits comme les grands.

En compagnie d’Esprit Alpin, Ti-Mousse dans Brousse vous invitent à venir nous retrouver au Parc de la rivière Doncaster le samedi 13 juillet prochain, attention les places sont limitées, les inscriptions se font en ligne, faites-vite!

Réservation obligatoire - NOUS SOMMES COMPLETS
Aucune inscription ne sera faite sur place.

1 adulte 10$ / 2 enfants
+5$ adulte supplémentaire
+3$ par enfants supplémentaire
15$ pour une famille 2adultes 2 enfants

On a bien hâte de vous voir!
DTEND:20190713T120000
DTSTAMP:20260422T172051
DTSTART:20190713T100000
LAST-MODIFIED:20091109T101015Z
LOCATION:Parc de Doncaster, 4672 Chemin de la Doncaster, Sainte-Adèle, Québec, J8B 1R8
SUMMARY;LANGUAGE=en-us:COMPLET - Laurentides - Rando, Conte, Yoga
BEGIN:VALARM
TRIGGER:-PT1440M
ACTION:DISPLAY
DESCRIPTION:Reminder
END:VALARM
END:VEVENT
END:VCALENDAR
