BEGIN:VCALENDAR
BEGIN:VEVENT
CLASS:PUBLIC
CREATED:20260422T172530
DESCRIPTION:Ti-Mousse dans Brousse sera de l\'événement organisé par Hooké, Allons pêcher!

Chasse aux merveilles de la nature et parcours d\'initiation au pushbike en collaboration avec Empire 47.

La transmission de la culture et des connaissances est au coeur de nos valeurs. C\'est pourquoi, le 7 juillet prochain, nous vous invitons à venir nous voir en famille ou entre amis à la Ferme et pisciculture Lac en Ville , tout près du centre ville de Québec. L\'équipe de Hooké y sera pour initier petits et grands à la pêche, en plus d\'offrir plusieurs autres activités amusantes et éducatives!

Au menu :
- Pêche en lacs ensemencés
- Champs de pratique pour lancer à la mouche
- Activité découverte avec Ti-Mousse dans Brousse
- Parcours de pushbikes de chez E47 Éco Sentiers
- Montage de mouche
- BBQ
- Petite fermette
- Maquillage
- Kiosque Hooké

Autres informations pertinentes :
- Pas besoin de réservation, ni de permis de pêche
- Tarifs: 0,60$ / pouce (aucun prix d’entrée)
- L’équipement pour pêcher en étang est fourni par la pisciculture (appâts, chaudière, sac et glace pour le transport)
- Canne à pêche en location à 2$ ou votre propre canne à pêche
- Cannes à mouches fournies par l’équipe de Hooké pour les techniques de lancer à la mouche
- Argent comptant seulement
DTEND:20190707T160000
DTSTAMP:20260422T172530
DTSTART:20190707T100000
LAST-MODIFIED:20091109T101015Z
LOCATION:Ferme et pisciculture Lac en Ville, 15550 boul Valcartier, Québec, Québec,  G2A 0A1
SUMMARY;LANGUAGE=en-us:Allons pêcher! En collaboration avec Hooké
BEGIN:VALARM
TRIGGER:-PT1440M
ACTION:DISPLAY
DESCRIPTION:Reminder
END:VALARM
END:VEVENT
END:VCALENDAR
