BEGIN:VCALENDAR
BEGIN:VEVENT
CLASS:PUBLIC
CREATED:20260422T172235
DESCRIPTION:Randonnée d\'identification des plantes médicinales et comestibles avec Capucine Chartrand, herboriste, thérapeute accréditée et professeur de yoga.

Balade sur le sentier du Lac Jaune, une boucle de 4 km sur laquelle on peut observer des plantes carnivores. On a plein de choses à vous dire et on conclue avec une dégustation de thés et chocolats pour les grands, chocolat chaud pour les petits.

Apportez votre pique-nique pour prolonger le plaisir avec nous!

Horaire détaillé:

 	Mot de bienvenue à 9h30
 	Départ pour la balade animée avec Capucine à 9h45
 	Dégustation de thés et chocolats à 12h
 	Pique-nique et plaisirs prolongés par la suite...

Écrivez nous si vous avez besoin d\'un porte-bébé en nous indiquant l\'âge de vos enfants. C\'est gratuit!

Coût: 25$ par adulte, gratuit pour les enfants.

Comprend: l\'animation et tous les savoirs sur les plantes médicinales et comestibles, dégustation de thés et chocolats pour les grands, chocolat chaud pour les petits, prêt de porte-bébé si nécessaire.

Balade adaptée aux 0-10 ans.

À noter qu\'un enfant de 4 ans est en mesure habituellement de marcher le sentier au complet. Les plus petits risque d\'alterner la marche et le repos.

Sentier accessible aux poussettes à grosses roues.

Au plaisir de vous y voir!
DTEND:20190706T130000
DTSTAMP:20260422T172235
DTSTART:20190706T093000
LAST-MODIFIED:20091109T101015Z
LOCATION:Station touristique Duchesnay, 140 Montée de l'Auberge, Sainte-Catherine-de-la-Jacques-Cartier, Québec, G3N 2Y6
SUMMARY;LANGUAGE=en-us:Identification des plantes médicinales, comestibles et dégustation de thés et chocolats
BEGIN:VALARM
TRIGGER:-PT1440M
ACTION:DISPLAY
DESCRIPTION:Reminder
END:VALARM
END:VEVENT
END:VCALENDAR
