BEGIN:VCALENDAR
BEGIN:VEVENT
CLASS:PUBLIC
CREATED:20260422T192431
DESCRIPTION:

Pâques ça se fête dans le bois.


 


Nous le vendredi Saint, on va dans le bois, on fait du yoga et on mange du chocolat!


 


Déroulement de l’activité:


 


14h30: Accueil dans le studio de yoga


14h45: Mot de bienvenue, présentation des partenaires, du studio et des services du Sibéria pour les familles


15h: Début du yoga de 25-30 minutes (besoin d\'un prof de yoga)


15h30: Habillement et début de la randonnée Chasse aux cocos de Pâques (nous avons des raquettes pour tous et des cocos de Pâques)


16h-16h15: Fin de la rando


16h: Tire d\'érable et feu de camp (besoin d\'un site pour faire un feu de camp extérieur, comme d\'habitude)


16h30: Fin de l\'activité et remerciements


 


Inclus:


– Raquettes si besoin;


– nous avons quelques traineaux et peaux de moutons. À noter que les porte-bébé sont plus faciles à utiliser que les traineaux sur ce sentier. Aucune poussette permise.


– Avisez-nous si vous aimeriez essayer un porte-bébé Chimparoo;


 


Coût:


30$ pour un adulte et un enfant;


6$ pour un enfant additionnel qui participe;


15$ pour un adulte additionnel;


Gratuit pour les enfants de 0-18 mois qui ne mangent pas de chocolat.


 


Réservation obligatoire à l\'adresse suivante: https://timoussedansbrousse.com/evrplus_registration/?action=evrplusegister&amp;event_id=42


DTEND:20190419T163000
DTSTAMP:20260422T192431
DTSTART:20190419T143000
LAST-MODIFIED:20091109T101015Z
LOCATION:Studio de Yoga Lac-Beauport, 337 Rue de Genève,  Québec, Québec, G2M 0A2
SUMMARY;LANGUAGE=en-us:COMPLET - Yoga et Chasse aux cocos de Pâques dans le bois - Lac-Beauport
BEGIN:VALARM
TRIGGER:-PT1440M
ACTION:DISPLAY
DESCRIPTION:Reminder
END:VALARM
END:VEVENT
END:VCALENDAR
