BEGIN:VCALENDAR
BEGIN:VEVENT
CLASS:PUBLIC
CREATED:20260422T210532
DESCRIPTION:Randonnée aux flambeaux et à la frontale
Dans le cadre du Défi Santé, en collaboration avec la Municipalité de Lac-Beauport, Ti-Mousse dans Brousse vous invite à découvrir la forêt de nuit avec vos enfants en participant à notre Rallye aux oursons et petits compagnons. Partez à la recherche d’animaux de la forêt en peluche le long d’un parcours guidé et découvrez en même temps le mode de vie et le comportement des animaux s’y trouvant. Activité parfaite pour les 3 à 9 ans. Offert en collaboration avec Ti-Mousse dans brousse.

 	Date et heure : le 12 avril de 18 h 30 à 19 h 30, suivi d’un feu de camp jusqu’à 22 h (remis au 26 avril en cas d’intempéries)
 	Lieu : départ du stationnement du parc du Brûlé (Saisonnier)
 	Coût : GRATUIT
 	Puisque les places sont limitées, vous devez réserver votre place au Service des loisirs de la Municipalité ou en ligne (priorité aux résidents du 1er au 8 avril 2019, ouvert à tous par la suite)

Pour s’inscrire aux activités de la Municipalité, à partir du 1er avril 2019 :

 	En ligne : https://mon.accescite.net/22040/fr-ca/
 	En personne : contacter Madame Karine Gauthier au 418 849-7141 poste 244

DTEND:20190412T220000
DTSTAMP:20260422T210532
DTSTART:20190412T183000
LAST-MODIFIED:20091109T101015Z
LOCATION:Le Saisonnier, 78, Chemin du Brûlé, Lac-Beauport, Québec, G3B 2J8
SUMMARY;LANGUAGE=en-us:Randonnée aux flambeaux et à la frontale - Lac-Beauport
BEGIN:VALARM
TRIGGER:-PT1440M
ACTION:DISPLAY
DESCRIPTION:Reminder
END:VALARM
END:VEVENT
END:VCALENDAR
