BEGIN:VCALENDAR
BEGIN:VEVENT
CLASS:PUBLIC
CREATED:20260422T203332
DESCRIPTION:
Wow une grande première au Québec!


 


Initiation au camping d\'hiver pour toute la famille.


Voici une aventure à tenter avec ses enfants pour le plaisir et la découverte des petits comme des grands. Vous pensez qu\'on est fou? Ben non... on est simplement bien préparé! ;)


 


En collaboration avec la Sépaq et le Parc national de la Jacques-Cartier, Ti-Mousse dans Brousse vous convie à vivre une expérience unique pour vivre pleinement la semaine de relâche au Québec! C\'est pas juste dans le sud qu\'on peut se dépayser.... apprendre à vivre dans la neige aussi, y\'a de quoi triper!


 


Expérience guidée par Joanie St-Pierre, guide depuis 12 ans et maman de deux petits aventuriers, en compagnie d\'un invité spécial Sébastien Lapierre Aventurier, un papa aventurier qui a traversé l\'Antarctique en solo et qui a initié son garçon au camping d\'hiver à l\'âge de 3 ans. 


Partagez avec eux leurs trucs et astuces et apprenez à repousser vos limites. Ensemble, nous vous accompagnerons dans le plaisir à découvrir les joies de dormir dehors l\'hiver, à s\'établir un campement et à mettre en application les 4 principes d\'une micoraventure: simplicité, accessibilité, CONFORT (oui oui c\'est possible) et plaisir!


 


Âge recommandé pour dormir sous la tente: à partir de 3 ans
(À noter qu\'à partir de 4 ans c\'est encore plus facile)


Toute la famille peut venir, nous aurons 4 refuges chauffés donc bébé et un des deux parents peut dormir dans un refuge chauffé pendant que l\'autre parent et l\'enfant le plus grand dort dehors. Tout est fait pour les jeunes familles et même les plus petits sont les bienvenus! 


 


Horaire:


10h: Arrivée et informations


11h: Randonnée en raquette


12h: Dîner


15h: Installation du campement et ateliers (technique de feu, montage d\'un campement, présentation des options pour dormir, la gastronomie en plein air l\'hiver)


18h: Souper


19h: Feu de camp et légendes


 


Inclus:


- Guides d\'expérience


- Tente d\'hiver


- Quantité limitée de sacs de couchage d\'hiver


- Accès en tout temps à 4 refuges chauffés (et au besoin pendant la nuit)


- Raquettes


- Souper et déjeuner (dîner non inclus)


- Boisson chaude disponible en tout temps


 


Une liste détaillée vous sera fourni à votre inscription mais prévoyez tout de suite:


- Vos ustensiles, bols, assiettes et votre tasse


- 2 Dîners


- Vêtements chauds et des rechanges


- Matelas de sol


- Sacs de couchage d\'hiver si vous en avez (au besoin avisez nous, on vous guidera vers une location)


- Une bouteille d\'eau Nalgène à gros goulot par personne y compris les enfants (pour vous faire une bouillotte pour rester plus facilement au chaud pendant la nuit)


- Mouflons si vous en avez


 


Coût: 


- 140$ par adulte;


- 40$ par enfant.


 


Places très limitées, inscriptions obligatoires



 


Pour toutes questions ou pour plus d\'informations, contactez nous:


joanie@timoussedansbrousse.com


581-888-9836

DTEND:20190305T140000
DTSTAMP:20260422T203332
DTSTART:20190304T100000
LAST-MODIFIED:20091109T101015Z
LOCATION:Parc national de la Jacques-Cartier, 103 Chemin du Parc-National, Stoneham-et-Tewkesbury, Québec, G3C 2T5
SUMMARY;LANGUAGE=en-us:Initiation au camping d'hiver pour familles aventurières
BEGIN:VALARM
TRIGGER:-PT1440M
ACTION:DISPLAY
DESCRIPTION:Reminder
END:VALARM
END:VEVENT
END:VCALENDAR
