BEGIN:VCALENDAR
BEGIN:VEVENT
CLASS:PUBLIC
CREATED:20260422T203424
DESCRIPTION:Sortie d\'exploration Ti-Mousse dans Brousse dans Charlevoix 
Découvrez le Camp le Manoir en hiver!

Quoi
 Une occasion pour randonner avec bébé et d’apprendre à transformer les petites choses en moments grandioses. Nos sorties ont lieu beau temps, mauvais temps, à moins d’un avertissement de froid extrême et seront, dans ce cas, reportées à une semaine subséquente.
Idéal pour familles ayant au moins un enfant entre 0 et 5 ans. Nous offrons le prêt gratuit de porte-bébé préformés Chimparoo (avisez-nous au besoin), quelques paires de raquettes à faire essayer à chacune de nos sorties et potentiellement d\'autre équipement.
Description:
Dimanche 10 mars de 9h45 à 12h

9h45 Arrivée des participants
10h Cherche et trouve en raquettes (les petits en portage ou traîneau)
10h30 Pause chocolat chaud :)
11h Glissade à volonté!
12h Fin de l\'activité

10$ par adulte, gratuit pour les enfants
La famille doit contenir au moins un enfant entre 0 et 5 ans

*Équipement fourni

Réservation obligatoire, places limitées.
Pour toutes questions, n\'hésitez pas à nous contacter en écrivant sur notre page Facebook, TMDB Charlevoix  ou à l\'adresse info@timoussedansbrousse.com

Au besoin composez le 581-888-9836


DTEND:20190310T120000
DTSTAMP:20260422T203424
DTSTART:20190310T093000
LAST-MODIFIED:20091109T101015Z
LOCATION:Camp le Manoir, 159 Rang Saint-Joseph, Les Éboulements, Québec, G0A 2M0
SUMMARY;LANGUAGE=en-us:10 mars, Charlevoix - Découvrez le Camp le Manoir en hiver!
BEGIN:VALARM
TRIGGER:-PT1440M
ACTION:DISPLAY
DESCRIPTION:Reminder
END:VALARM
END:VEVENT
END:VCALENDAR
