BEGIN:VCALENDAR
BEGIN:VEVENT
CLASS:PUBLIC
CREATED:20260422T210506
DESCRIPTION:Club d\'exploration Ti-Mousse dans Brousse dans Charlevoix


Description: Mini-parcours de 2 km en raquettes avec petits personnages à découvrir pour les familles avec des enfants de 0 à 6 ans. Nous franchirons la ligne d\'arrivée avec fierté pour nous régaler et faire la fête!

Dimanche 17 février à 10h
Lieu: Rendez-vus au stationnement du Musée de Charlevoix
10$ par famille

Places limitées et réservation obligatoire.
Au plaisir de marcher vite, ou peut-être même de reculons avec vous!




DTEND:20190217T130000
DTSTAMP:20260422T210506
DTSTART:20190217T100000
LAST-MODIFIED:20091109T101015Z
LOCATION:Charlevoix, , La Malbaie, Québec, 
SUMMARY;LANGUAGE=en-us:La Virée Nordique avec Ti-Mousse dans Brousse
BEGIN:VALARM
TRIGGER:-PT1440M
ACTION:DISPLAY
DESCRIPTION:Reminder
END:VALARM
END:VEVENT
END:VCALENDAR
