BEGIN:VCALENDAR
BEGIN:VEVENT
CLASS:PUBLIC
CREATED:20260422T222425
DESCRIPTION:Il nous fait plaisir d\'offrir 4 activités gratuites dans 4 parcs dans le cadre de la journée d\'hiver Sépaq.

Nous serons au:
Parc national du Mont-Tremblant
Parc national du Mont-Saint-Bruno
Parc national de la Jacques-Cartier
Parc national des Hautes Gorges de la Rivière Malbaie

Sous le thèmes: Le rallye aux oursons de Ti-Mousse dans Brousse

Ti-Mousse dans Brousse vous invite à profiter pleinement de l\'hiver avec vos enfants lors de cette activité d\'initiation à la raquette. Partez à la recherche d\'animaux de la forêt en peluche le long d\'un parcours guidé et profitez des trucs et astuces sur l\'habillement, le portage et la gestion des activités hivernales avec des tout-petits qui vous seront partagés par l\'animateur. Activité adaptée aux 0-5 ans mais accessible à tous!

Rendez-vous : centre de découverte et de services de l\'un de ces 4 établissements
2 heures de départ: 10h et 11h30 (arrivés 15 minutes d\'avance)
Durée : 60 minutes
Activité gratuite, inscriptions le jour même, places limitées

Premier arrivé, premier servi!

Pour plus d\'information visitez la programmation détaillée sur Journée d\'hiver Sépaq.
DTEND:20190126T130000
DTSTAMP:20260422T222425
DTSTART:20190126T094500
LAST-MODIFIED:20091109T101015Z
LOCATION:4 parcs nationaux de la Sépaq, , , , 
SUMMARY;LANGUAGE=en-us:Journée d'hiver Sépaq avec Ti-Mousse dans Brousse
BEGIN:VALARM
TRIGGER:-PT1440M
ACTION:DISPLAY
DESCRIPTION:Reminder
END:VALARM
END:VEVENT
END:VCALENDAR
