BEGIN:VCALENDAR
BEGIN:VEVENT
CLASS:PUBLIC
CREATED:20260422T223131
DESCRIPTION:Club d\'exploration Ti-Mousse dans Brousse de la Ville de Québec


Quoi
6 sorties familiales extérieures qui vous permettront de découvrir ou redécouvrir différents parcs et sites naturels à chaque semaine. Une occasion pour randonner avec bébé et d’apprendre à transformer les petites choses en moments grandioses. Nos sorties ont lieu beau temps, mauvais temps, à moins d’un avertissement de froid extrême et seront, dans ce cas, reportées à une semaine subséquente.
Idéal pour familles ayant au moins un enfant entre 0 et 5 ans. Nous offrons le prêt gratuit de porte-bébé préformés Chimparoo et possiblement d\'autres marques au besoin sous réservation et nous aurons quelques paires de raquettes à faire essayer à chacune de nos sorties.

Découvertes, sourires, chocolat chaud et autres surprises incluses!
Descriptions des 6 journées activités thématiques extérieures de 10h à 11h30:

Sortie 1 : Mercredi 30 janvier 2019 – 10h à 11h30

Accueil et information sur le multicouche adulte et enfant, courte randonnée parents-enfants en raquette et porte-bébé introduction au traineau.  Lieu : Parc Montagne des Roches

Sortie 2 : Mercredi 13 février 2019 – 10h à 11h30

Randonnée en raquette et traineau Lieu : Base de Plein air de Ste-Foy

Sortie 3 : Mercredi 27 février 2019 – 10h à 11h30

Randonnée en raquette et traineau Lieu : Parc de la Rivière Beauport

Sortie 4 : Mercredi 13 mars 2019 – 10h à 11h30

Randonnée en raquette et traineau Lieu: Domaine Maizerets

Sortie 5 : Mercredi 27 mars 2019 – 10h à 11h30

Randonnée en raquette et traineau Lieu: Sentier linéaire de la Rivière St-Charles (entre le secteur Chauveau et Château d\'eau)

Sortie 6 : Mercredi 3 avril 2019 – 10h à 11h30

Randonnée en raquette et traineau Lieu: Parc de l\'Escarpement
Coût: 100$ par inscription par famille, les grands-parents sont aussi les bienvenus!
Réservation obligatoire, places limitées. Il est aussi possible de venir participer aux activités pour 20$ par adulte avec enfants pour une journée seulement, vérifiez la disponibilité le jour précédent l\'activité en nous écrivant sur notre page Facebook Ti-Mousse dans Brousse.


Un courriel vous sera envoyé avec tous les détails une semaine avant votre première sortie et veuillez noter que les lieux peuvent être interchanger en fonction de la météo, à reconfirmer.

Places limitées, réservation obligatoire: https://timoussedansbrousse.com/evenements-calendrier/


Pour plus d’information composez le 581-888-9836


DTEND:20190130T113000
DTSTAMP:20260422T223131
DTSTART:20190130T100000
LAST-MODIFIED:20091109T101015Z
LOCATION:Québec, , Québec, Québec, 
SUMMARY;LANGUAGE=en-us:Club d'exploration Ville de Québec
BEGIN:VALARM
TRIGGER:-PT1440M
ACTION:DISPLAY
DESCRIPTION:Reminder
END:VALARM
END:VEVENT
END:VCALENDAR
