BEGIN:VCALENDAR
BEGIN:VEVENT
CLASS:PUBLIC
CREATED:20260422T210119
DESCRIPTION:Sortie d\'exploration Ti-Mousse dans Brousse dans Charlevoix 
On s\'éclate aux Sources Joyeuses!


Quoi
 Une occasion pour randonner avec bébé et d’apprendre à transformer les petites choses en moments grandioses. Nos sorties ont lieu beau temps, mauvais temps, à moins d’un avertissement de froid extrême et seront, dans ce cas, reportées à une semaine subséquente.
Idéal pour familles ayant au moins un enfant entre 0 et 5 ans. Nous offrons le prêt gratuit de porte-bébé préformés Chimparoo (avisez-nous au besoin), quelques paires de raquettes à faire essayer à chacune de nos sorties et potentiellement d\'autre équipement.
Description:

Dimanche 24 février de 9h30 à 12h



9h30 Arrivée


9h45 Départ pour une randonnée d\'initiation en raquettes (les petits en portage ou traîneau)


10h15 Surprise dans le tipi :)


10h45 Retour en raquettes


11h15 Glissade et/ou patin à votre choix


12h Fin de l\'activité (beau dodo d\'après-midi garanti!)

15$ par adulte, gratuit pour les enfants
La famille doit contenir au moins un enfant entre 0 et 5 ans

*Si vous avez besoin d\'équipement, informez-vous, on a peut-être ce qu\'il vous faut!


Réservation obligatoire, places limitées.
Pour toutes questions, n\'hésitez pas à nous contacter en écrivant sur notre page Facebook, TMDB Charlevoix  ou à l\'adresse info@timoussedansbrousse.com

Au besoin composez le 581-888-9836


DTEND:20190224T120000
DTSTAMP:20260422T210119
DTSTART:20190224T093000
LAST-MODIFIED:20091109T101015Z
LOCATION:Sources Joyeuses, 141 Rang Sainte Madeleine, La Malbaie, Québec, G5A 2T2
SUMMARY;LANGUAGE=en-us:24 février, Charlevoix - On s'éclate aux Sources Joyeuses!
BEGIN:VALARM
TRIGGER:-PT1440M
ACTION:DISPLAY
DESCRIPTION:Reminder
END:VALARM
END:VEVENT
END:VCALENDAR
