BEGIN:VCALENDAR
BEGIN:VEVENT
CLASS:PUBLIC
CREATED:20260423T013029
DESCRIPTION:
Initiation de planche à pagaie et randonnée pour les famille vendredi le 14 septembre





L\'initiation se veut amicale et permettra à un parent d\'essayer de conserver son équilibre avec son enfant assit sur la planche devant lui pour débuter et de tranquillement gravir différents niveaux de difficultés, en fonction des désirs et de l\'énergie de chaque enfant. Nous restons à proximité du bord de plage pour que petits et grands puissent apprivoiser cette activité dans le plaisir. L\'activité sera graduelle et on ajustera notre parcours en fonction du niveau de collaboration des plus petits. C\'est une belle manière de jouer sur l\'eau autrement! Pas besoin de rester longtemps avec les tout-petits, juste le fait d\'essayer c\'est une manière de transmettre l\'intérêt à vos enfants et ça commence bien l\'été!





Il est généralement possible de commencer à initier les enfants à 18 mois mais d\'une manière très sécuritaire, le parent assis avec son enfant sur la planche toujours à proximité du bord de plage. C\'est à l\'âge de 3 ans qu\'on peut mieux en profiter!





Pique-nique libre et module de jeux





Randonnée Le Rocher en après-midi. Magnifique sentier avec dénivelé qui permet d\'observer les montagnes et le paysage environnant, parcours animés et abris sous roches. Distance de 1,7 km. Non accessible aux poussettes.





Possibilité d\'essayer des porte-bébés Chimparoo pendant la journée en nous avisant à l\'avance!





Réservation obligatoire


Eau plaisir de vous y voir!

DTEND:20180914T140000
DTSTAMP:20260423T013029
DTSTART:20180914T094500
LAST-MODIFIED:20091109T101015Z
LOCATION:Station touristique Duchesnay, 140, Montée de l'Auberge, Sainte-Catherine-de-la-Jacques-Cartier, Québec, G0A 2J0
SUMMARY;LANGUAGE=en-us:Initiation de planche à pagaie et randonnée à la Station touristique Duchesnay
BEGIN:VALARM
TRIGGER:-PT1440M
ACTION:DISPLAY
DESCRIPTION:Reminder
END:VALARM
END:VEVENT
END:VCALENDAR
