BEGIN:VCALENDAR
BEGIN:VEVENT
CLASS:PUBLIC
CREATED:20260422T210526
DESCRIPTION:Venez découvrir les splendeurs hivernales des Marais du Nord.

Une courte balade sur des sentiers tapés attend les familles et leurs grands-parents pour profiter pleinement des joies de l’hiver. Les randonnées sont adaptées aux jeunes enfants incluant des trucs et des astuces pour assurer le confort des petits et des grands. Animation et boisson chaude sont incluses. Raquettes et porte-bébé inclus pour les familles intéressées. SVP, nous aviser lors de votre inscription. Accessible en traineaux et en poussettes avec grosses roues, idéalement des poussettes avec skis.

Emportez votre lumière frontale car on profite des journées courtes de février pour initier nos enfants à découvrir la forêt la nuit.

10$ par adulte

3$ pour les enfants de 6 à 17 ans

Gratuit pour les 5 ans et moins

Places limitées, inscription obligatoire sur la site des Marais du Nord.
DTEND:20190215T183000
DTSTAMP:20260422T210526
DTSTART:20190215T173000
LAST-MODIFIED:20091109T101015Z
LOCATION:Marais du Nord, 1100, chemin de la Grande-Ligne, Stoneham-et-Tewkesbury, Québec, G3C 0Y1
SUMMARY;LANGUAGE=en-us:Raquette à la frontale aux Marais du Nord
BEGIN:VALARM
TRIGGER:-PT1440M
ACTION:DISPLAY
DESCRIPTION:Reminder
END:VALARM
END:VEVENT
END:VCALENDAR
