BEGIN:VCALENDAR
BEGIN:VEVENT
CLASS:PUBLIC
CREATED:20260422T210408
DESCRIPTION:Sortie du Club d\'exploration Ti-Mousse dans Brousse dans les Laurentides


Quoi
Au total, 4 sorties familiales extérieures qui vous permettront de découvrir ou redécouvrir différents parcs et sites naturels à chaque semaine. Une occasion pour randonner avec bébé et d’apprendre à transformer les petites choses en moments grandioses. Nos sorties ont lieu beau temps, mauvais temps, à moins d’un avertissement de froid extrême et seront, dans ce cas, reportées à une semaine subséquente.
Idéal pour familles ayant au moins un enfant entre 0 et 5 ans. Nous offrons le prêt gratuit de porte-bébé préformés Chimparoo et possiblement d\'autres marques au besoin sous réservation et nous aurons quelques paires de raquettes à faire essayer à chacune de nos sorties.

Découvertes, sourires, chocolat chaud et autres surprises incluses!
Sortie du Vendredi 8 février 2019 

Randonnée en raquette et traineau, jeux extérieur Lieu : Monfort

Le club d\'exploration continue cette semaine, vous pouvez vous inscrire à la journée pour le vendredi 8 février, pour seulement 15$/ adulte avec vos enfants, 10$/ adulte supp.

Au rendez-vous : familles, sourires, raquettes et porte-bébé à essayer, apportez vos traineaux et collation on fournit le chocolat chaud.

Le point de rendez-vous vous sera divulgué via Messenger ou courriel une fois inscrit, un minimum de 5 familles est requis.

On a hâte de jouer dehors avec vous et vos tout-petits.
Réservation obligatoire, places limitées. Vous avez jusqu\'au jeudi 7 février 18h pour vous inscrire.
Pour ne rien manquer, suivez la page Facebook, TMDB Laurentides.

Pour plus d’information composez le 819 217 8686


DTEND:20190208T113000
DTSTAMP:20260422T210408
DTSTART:20190208T100000
LAST-MODIFIED:20091109T101015Z
LOCATION:Morin Heights, , Morin Heights, Québec, 
SUMMARY;LANGUAGE=en-us:Sortie 8 février - Club d'exploration Laurentides
BEGIN:VALARM
TRIGGER:-PT1440M
ACTION:DISPLAY
DESCRIPTION:Reminder
END:VALARM
END:VEVENT
END:VCALENDAR
