BEGIN:VCALENDAR
BEGIN:VEVENT
CLASS:PUBLIC
CREATED:20260422T223127
DESCRIPTION:
1 an, ça se fête en grand! Gratuit!
Patin, raquette, feu de camp, chocolat chaud, ambiance festive et surprises!






Joignez-vous à nous pour souligner notre 1 an de lancement d\'activités ce dimanche 13 janvier sur les terrains du Entourage-Sur-le-Lac à Lac-Beauport. Aucune inscription obligatoire, vous vous présentez simplement à l\'heure qui vous convient mais premier arrivé, premier servi!



 


Une demi-journée journée d\'activités au programme avec 


prêts de patins par Accès-Loisirs Québec et de raquettes avec les Raquettes GV, essaies de Fatbike par Empire 47 et Genetik Sport, tour de calèche avec le Centre Pégase (payante et les profits iront la une Fondation), chocolat chaud, ambiance festive, feu de camp et autres surprises!


 


À noter que nous avons 50 paires de raquettes (25 adultes, 25 enfants) et 30 de patins. Pour vous aider à planifier votre séance de patinage, voici les informations essentielles. Premier arrivé, premier servis.


 


Voici les pointures que nous aurons à votre disposition.


Gars :


8-9-10-11-12-13 Enfants


1-2-3-4-5-6-7-8 Junior/ adultes


 


Filles :


6-10-11-12-13 Enfants


1-2-3-4-5-6-7-8-9 Junior / adultes


 


Nous avons uniquement 2 barres stabilisatrices et 5 casques pour enfants alors apportez les vôtres!


 


À noter que la patinage est possible sur l\'anneau de 3 km de long et une patinoire uniquement dédiée au hockey est la grande nouveauté cette année! Nous aurons 10 bâtons de hockey pour ados et une dizaine de rondelles... alors apportez les vôtres!


 


Nous avons quelques porte-bébés Chimparoo à faire essayer pour la raquette et quelques traineaux. 


Premier arrivé, premier servis.


 


Venez patiner avec bébé dans votre poussette et apportez un traineau pour votre plus grand!


 


Stationnement disponible à l\'entrée de la patinoire, juste à côté de l\'Hotel Entourage Sur-le-Lac, sinon dans les espaces de stationnement de l\'Hotel Entourage.



 Pour plus d\'informations sur le patinage avec de jeunes enfants de 0 à 5 ans, lisez notre article de blogue ici.





DTEND:20190113T133000
DTSTAMP:20260422T223127
DTSTART:20190113T093000
LAST-MODIFIED:20091109T101015Z
LOCATION:Hotel Entourage Sur-le-Lac, 99 Chemin du Tour-du-Lac, Lac-Beauport, Québec, G3B 2R3
SUMMARY;LANGUAGE=en-us:Dehors les familles à Lac-Beauport
BEGIN:VALARM
TRIGGER:-PT1440M
ACTION:DISPLAY
DESCRIPTION:Reminder
END:VALARM
END:VEVENT
END:VCALENDAR
