BEGIN:VCALENDAR
BEGIN:VEVENT
CLASS:PUBLIC
CREATED:20260422T225439
DESCRIPTION:Pour une première édition dans Charlevoix, notre activité thématique de Noël arrive à La Malbaie dimanche le 16 décembre. Enfilez votre plus beau pyjama pour créer la meilleure ambiance des fêtes en participant à notre yoga parents-enfants qui sera suivi d\'une randonnée hivernale en raquette pour trouver nos 15 petits lutins des bois.


Déroulement de l\'activité:

 	9h30: Accueil;
 	9h45 à 10h30: yoga en pyjama pour petits et grands;
 	10h45 à 11h45: Chasse aux petits lutins des Bois (randonnée dans une forêt magique pour aider le Père Noël à retrouver 15 lutins paresseux qui doivent retourner à leur atelier aider à la fabrication des cadeaux pour permettre à tous les amis de recevoir quelque chose sous son arbre de Noël cette année...
 	12h à 12h30 Goûter et remerciements
 	
12h30 à 13h00: Histoire et surprises autour du feu

Inclus:
- Raquettes;
- Avisez-nous si vous aimeriez essayer un porte-bébé Chimparoo;

Réservation obligatoire
20$ par famille, gratuit pour les enfants.
Venez nous voir avec votre plus beau pyjama et habillez-vous chaudement pour la balade en forêt!

Merci à nos partenaires:
Ville de LaMalbaie
Chimparoo, l\'Écharpe Porte BOnheur
Agence Michel Quesnel et The North Face


DTEND:20181216T130000
DTSTAMP:20260422T225439
DTSTART:20181216T093000
LAST-MODIFIED:20091109T101015Z
LOCATION:Complexe sportif, 104 rue Laure-Gaudreault, La Malbaie, Québec, G5A 0A8
SUMMARY;LANGUAGE=en-us:ANNULÉ - Yoga pyjama et chasse aux petits lutins des bois
BEGIN:VALARM
TRIGGER:-PT1440M
ACTION:DISPLAY
DESCRIPTION:Reminder
END:VALARM
END:VEVENT
END:VCALENDAR
