BEGIN:VCALENDAR
BEGIN:VEVENT
CLASS:PUBLIC
CREATED:20260422T223812
DESCRIPTION:



Atelier offert en collaboration avec la Bibliothèque Laure-Conan de La Malbaie et la Municipalité de La Malbaie.

Tu souhaites profiter de l\'hiver avec ton mini, mais tu te demandes comment faire?

Cet atelier te permettra de mieux comprendre les bases de :

 	L\'habillement
 	Les principes de conservation de chaleur et la gestion de perte de chaleur
 	Les modes de déplacement sur la neige (traineaux, poussettes et porte-bébés)
 	L\'hydratation et l\'alimentation
 	Les refroidissements et les engelures




DTEND:20181207T150000
DTSTAMP:20260422T223812
DTSTART:20181207T133000
LAST-MODIFIED:20091109T101015Z
LOCATION:395 , Rue Saint Étienne, La Malbaie, Québec, G5A 2L9
SUMMARY;LANGUAGE=en-us:Atelier: L'art de profiter de l'hiver avec bébé, La Malbaie
BEGIN:VALARM
TRIGGER:-PT1440M
ACTION:DISPLAY
DESCRIPTION:Reminder
END:VALARM
END:VEVENT
END:VCALENDAR
