BEGIN:VCALENDAR
BEGIN:VEVENT
CLASS:PUBLIC
CREATED:20260422T225009
DESCRIPTION:



Atelier offert en collaboration avec le Mousse Café.

Tu souhaites profiter de l\'hiver avec ton mini, mais tu te demandes comment faire?

Cet atelier te permettra de mieux comprendre les bases de :

 	L\'habillement
 	Les principes de conservation de chaleur et la gestion de perte de chaleur
 	Les modes de déplacement sur la neige (traineaux, poussettes et porte-bébés)
 	L\'hydratation et l\'alimentation
 	Les refroidissements et les engelures




DTEND:20181207T110000
DTSTAMP:20260422T225009
DTSTART:20181207T093000
LAST-MODIFIED:20091109T101015Z
LOCATION:63 , rue Ambroise-Fafard , Baie-Saint-Paul, Québec, G3Z 2J7
SUMMARY;LANGUAGE=en-us:Atelier: L'art de profiter de l'hiver avec bébé au Mousse Café, Charlevoix
BEGIN:VALARM
TRIGGER:-PT1440M
ACTION:DISPLAY
DESCRIPTION:Reminder
END:VALARM
END:VEVENT
END:VCALENDAR
