BEGIN:VCALENDAR
BEGIN:VEVENT
CLASS:PUBLIC
CREATED:20260422T223909
DESCRIPTION:



Atelier offert en collaboration avec Bougeotte et Placotine

Tu souhaites profiter de l\'hiver avec ton mini, mais tu te demandes comment faire?

Cet atelier te permettra de mieux comprendre les bases de :

 	L\'habillement
 	Les principes de conservation de chaleur et la gestion de perte de chaleur
 	Les modes de déplacement sur la neige (traineaux, poussettes et porte-bébés)
 	L\'hydratation et l\'alimentation
 	Les refroidissements et les engelures




DTEND:20181211T153000
DTSTAMP:20260422T223909
DTSTART:20181211T140000
LAST-MODIFIED:20091109T101015Z
LOCATION:1500, rue Sheppard, Québec, Québec, G1S 1J9
SUMMARY;LANGUAGE=en-us:Atelier: L'art de profiter de l'hiver avec bébé chez Bougeotte et Placotine, Sillery
BEGIN:VALARM
TRIGGER:-PT1440M
ACTION:DISPLAY
DESCRIPTION:Reminder
END:VALARM
END:VEVENT
END:VCALENDAR
