BEGIN:VCALENDAR
BEGIN:VEVENT
CLASS:PUBLIC
CREATED:20260422T224026
DESCRIPTION:Notre activité thématique tant attendue est de retour pour une troisième édition « Le Trio de Noël : yoga pyjama et randonnée hivernale pour une cause géniale ! ». À l’approche de la période des fêtes, Ti-Mousse dans Brousse, en collaboration avec V.O. Version Originale ont décidé d’organiser une collecte de toutous et de jouets usagés mais en bon état pour remettre à des familles vulnérables via l’organisme Réno-Jouets. Nous profitons de l\'occasion pour offrir une activité familiale dimanche le 2 décembre 2018.

Déroulement de l\'activité:

 	13h: Accueil et collecte des toutous et jouets usagés mais en bon état;
 	13h30-14h15: yoga en pyjama pour petits et grands;
 	14h30-15h30: Chasse aux petits lutins des Bois (randonnée dans une forêt magique pour aider le Père Noël à retrouver 15 lutins paresseux qui doivent retourner à leur atelier aider à la fabrication des cadeaux pour permettre à tous les amis de recevoir quelque chose sous son arbre de Noël cette année...
 	Feu de camp, chocolat chaud et collations pour finir la journée

Inclus:
- Raquettes;
- nous avons quelques traineaux et peaux de moutons;
- Avisez-nous si vous aimeriez essayer un porte-bébé Chimparoo;

Réservation obligatoire
20$ par adulte, gratuit pour les enfants.
N\'oubliez pas votre jouets ou toutous usagés, venez nous voir avec votre plus beau pyjama et habillez-vous chaudement pour la balade en forêt!

Merci à nos partenaires:
Yoga Lac-Beauport
Sibéria Station Spa
GV Snowshoes
Chimparoo, l\'Écharpe Porte BOnheur
Agence Michel Quesnel et The North Face


DTEND:20181202T160000
DTSTAMP:20260422T224026
DTSTART:20181202T130000
LAST-MODIFIED:20091109T101015Z
LOCATION:Studio de Yoga Lac-Beauport, 337 Rue de Genève,  Québec, Québec, G2M 0A2
SUMMARY;LANGUAGE=en-us:Trio de Noël
BEGIN:VALARM
TRIGGER:-PT1440M
ACTION:DISPLAY
DESCRIPTION:Reminder
END:VALARM
END:VEVENT
END:VCALENDAR
